BEGIN:VCALENDAR
VERSION:2.0
PRODID:-//Asian Shooting Confederation - ECPv6.15.20//NONSGML v1.0//EN
CALSCALE:GREGORIAN
METHOD:PUBLISH
X-ORIGINAL-URL:https://www.asia-shooting.org
X-WR-CALDESC:Events for Asian Shooting Confederation
REFRESH-INTERVAL;VALUE=DURATION:PT1H
X-Robots-Tag:noindex
X-PUBLISHED-TTL:PT1H
BEGIN:VTIMEZONE
TZID:UTC
BEGIN:STANDARD
TZOFFSETFROM:+0000
TZOFFSETTO:+0000
TZNAME:UTC
DTSTART:20250101T000000
END:STANDARD
END:VTIMEZONE
BEGIN:VEVENT
DTSTART;TZID=UTC:20261203T080000
DTEND;TZID=UTC:20261208T170000
DTSTAMP:20260419T175912
CREATED:20260323T143306Z
LAST-MODIFIED:20260323T143309Z
UID:27206-1796284800-1796749200@www.asia-shooting.org
SUMMARY:ISSF World Cup Final Rifle / Pistol / Shotgun
DESCRIPTION:
URL:https://www.asia-shooting.org/event/issf-world-cup-final-rifle-pistol-shotgun-4/
LOCATION:Rome\, ITA
END:VEVENT
BEGIN:VEVENT
DTSTART;TZID=UTC:20261206T080000
DTEND;TZID=UTC:20261211T170000
DTSTAMP:20260419T175912
CREATED:20260323T143643Z
LAST-MODIFIED:20260323T143644Z
UID:27210-1796544000-1797008400@www.asia-shooting.org
SUMMARY:ISSF Academy A3 Course (online phase from latest May)
DESCRIPTION:
URL:https://www.asia-shooting.org/event/issf-academy-a3-course-online-phase-from-latest-may/
LOCATION:Rome\, ITA
END:VEVENT
BEGIN:VEVENT
DTSTART;TZID=UTC:20261214T080000
DTEND;TZID=UTC:20261214T170000
DTSTAMP:20260419T175912
CREATED:20260323T143537Z
LAST-MODIFIED:20260323T143540Z
UID:27208-1797235200-1797267600@www.asia-shooting.org
SUMMARY:ISSF General Assembly
DESCRIPTION:
URL:https://www.asia-shooting.org/event/issf-general-assembly-3/
LOCATION:Rome\, ITA
END:VEVENT
END:VCALENDAR