BEGIN:VCALENDAR
VERSION:2.0
PRODID:-//Asian Shooting Confederation - ECPv6.15.20//NONSGML v1.0//EN
CALSCALE:GREGORIAN
METHOD:PUBLISH
X-WR-CALNAME:Asian Shooting Confederation
X-ORIGINAL-URL:https://www.asia-shooting.org
X-WR-CALDESC:Events for Asian Shooting Confederation
REFRESH-INTERVAL;VALUE=DURATION:PT1H
X-Robots-Tag:noindex
X-PUBLISHED-TTL:PT1H
BEGIN:VTIMEZONE
TZID:UTC
BEGIN:STANDARD
TZOFFSETFROM:+0000
TZOFFSETTO:+0000
TZNAME:UTC
DTSTART:20240101T000000
END:STANDARD
END:VTIMEZONE
BEGIN:VEVENT
DTSTART;TZID=UTC:20250704T080000
DTEND;TZID=UTC:20250714T170000
DTSTAMP:20260419T133036
CREATED:20240224T160859Z
LAST-MODIFIED:20240311T181917Z
UID:18414-1751616000-1752512400@www.asia-shooting.org
SUMMARY:ISSF World Cup Shotgun
DESCRIPTION:
URL:https://www.asia-shooting.org/event/issf-world-cup-tbd-shotgun-2/
LOCATION:LONATO DEL GARDA\, ITA
END:VEVENT
BEGIN:VEVENT
DTSTART;TZID=UTC:20250705T110000
DTEND;TZID=UTC:20250705T130000
DTSTAMP:20260419T133036
CREATED:20250618T155511Z
LAST-MODIFIED:20250618T155512Z
UID:23620-1751713200-1751720400@www.asia-shooting.org
SUMMARY:ASC 41st Executive Committee Meeting (Video Conference)
DESCRIPTION:
URL:https://www.asia-shooting.org/event/asc-41st-executive-committee-meeting-video-conference/
LOCATION:Kuwait City\, KUW
END:VEVENT
BEGIN:VEVENT
DTSTART;TZID=UTC:20250709T080000
DTEND;TZID=UTC:20250712T170000
DTSTAMP:20260419T133036
CREATED:20241001T173335Z
LAST-MODIFIED:20241001T173336Z
UID:21173-1752048000-1752339600@www.asia-shooting.org
SUMMARY:Masped Cup 10m/25m/50m
DESCRIPTION:
URL:https://www.asia-shooting.org/event/masped-cup-10m-25m-50m/
LOCATION:Budapest\, HUN
END:VEVENT
BEGIN:VEVENT
DTSTART;TZID=UTC:20250710T080000
DTEND;TZID=UTC:20250720T170000
DTSTAMP:20260419T133036
CREATED:20241001T173448Z
LAST-MODIFIED:20241001T173449Z
UID:21175-1752134400-1753030800@www.asia-shooting.org
SUMMARY:ITALIAN OPEN Green Cup Shotgun
DESCRIPTION:
URL:https://www.asia-shooting.org/event/italian-open-green-cup-shotgun-2/
LOCATION:Todi\, ITA
END:VEVENT
BEGIN:VEVENT
DTSTART;TZID=UTC:20250719T080000
DTEND;TZID=UTC:20250727T170000
DTSTAMP:20260419T133036
CREATED:20240702T152859Z
LAST-MODIFIED:20240702T152900Z
UID:19429-1752912000-1753635600@www.asia-shooting.org
SUMMARY:European Youth Olympic Festival
DESCRIPTION:
URL:https://www.asia-shooting.org/event/european-youth-olympic-festival/
LOCATION:Skopje\, MKD
END:VEVENT
BEGIN:VEVENT
DTSTART;TZID=UTC:20250723T080000
DTEND;TZID=UTC:20250807T170000
DTSTAMP:20260419T133036
CREATED:20240311T182045Z
LAST-MODIFIED:20240401T193139Z
UID:18476-1753257600-1754586000@www.asia-shooting.org
SUMMARY:European Championship 25m - 50m - 300m - RT - Shotgun
DESCRIPTION:
URL:https://www.asia-shooting.org/event/european-championship-25m-50m-300m-rt-shotgun/
LOCATION:Chateauroux\, FRA
END:VEVENT
END:VCALENDAR