BEGIN:VCALENDAR
VERSION:2.0
PRODID:-//Asian Shooting Confederation - ECPv6.15.20//NONSGML v1.0//EN
CALSCALE:GREGORIAN
METHOD:PUBLISH
X-ORIGINAL-URL:https://www.asia-shooting.org
X-WR-CALDESC:Events for Asian Shooting Confederation
REFRESH-INTERVAL;VALUE=DURATION:PT1H
X-Robots-Tag:noindex
X-PUBLISHED-TTL:PT1H
BEGIN:VTIMEZONE
TZID:UTC
BEGIN:STANDARD
TZOFFSETFROM:+0000
TZOFFSETTO:+0000
TZNAME:UTC
DTSTART:20270101T000000
END:STANDARD
END:VTIMEZONE
BEGIN:VEVENT
DTSTART;TZID=UTC:20280416T080000
DTEND;TZID=UTC:20280424T170000
DTSTAMP:20260421T225341
CREATED:20251119T152027Z
LAST-MODIFIED:20251119T152028Z
UID:25504-1839484800-1840208400@www.asia-shooting.org
SUMMARY:ISSF Junior World Cup Shotgun
DESCRIPTION:
URL:https://www.asia-shooting.org/event/issf-junior-world-cup-shotgun-2/
LOCATION:Tangier\, Morocco
END:VEVENT
BEGIN:VEVENT
DTSTART;TZID=UTC:20280416T080000
DTEND;TZID=UTC:20280429T170000
DTSTAMP:20260421T225341
CREATED:20260314T080016Z
LAST-MODIFIED:20260315T184014Z
UID:27171-1839484800-1840640400@www.asia-shooting.org
SUMMARY:Asian Rifle/Pistol Championship 2028 (14 Quota Places for LA Olympics 2028)
DESCRIPTION:
URL:https://www.asia-shooting.org/event/asian-rifle-pistol-championship-2028-14-quota-place-for-la-olympic-2028/
LOCATION:Shymkent\, KAZ
END:VEVENT
END:VCALENDAR