BEGIN:VCALENDAR
VERSION:2.0
PRODID:-//Asian Shooting Confederation - ECPv6.15.20//NONSGML v1.0//EN
CALSCALE:GREGORIAN
METHOD:PUBLISH
X-WR-CALNAME:Asian Shooting Confederation
X-ORIGINAL-URL:https://www.asia-shooting.org
X-WR-CALDESC:Events for Asian Shooting Confederation
REFRESH-INTERVAL;VALUE=DURATION:PT1H
X-Robots-Tag:noindex
X-PUBLISHED-TTL:PT1H
BEGIN:VTIMEZONE
TZID:UTC
BEGIN:STANDARD
TZOFFSETFROM:+0000
TZOFFSETTO:+0000
TZNAME:UTC
DTSTART:20270101T000000
END:STANDARD
END:VTIMEZONE
BEGIN:VEVENT
DTSTART;TZID=UTC:20280314T080000
DTEND;TZID=UTC:20280324T170000
DTSTAMP:20260421T210309
CREATED:20251119T151834Z
LAST-MODIFIED:20251119T151835Z
UID:25500-1836633600-1837530000@www.asia-shooting.org
SUMMARY:ISSF World Cup Rifle / Pistol
DESCRIPTION:
URL:https://www.asia-shooting.org/event/issf-world-cup-rifle-pistol-33/
LOCATION:Guadalajara\, MEX
END:VEVENT
BEGIN:VEVENT
DTSTART;TZID=UTC:20280317T080000
DTEND;TZID=UTC:20280325T170000
DTSTAMP:20260421T210309
CREATED:20260314T075855Z
LAST-MODIFIED:20260315T183930Z
UID:27169-1836892800-1837616400@www.asia-shooting.org
SUMMARY:Asian Shotgun Championship 2028 (8 Quota Places for LA Olympics 2028)
DESCRIPTION:
URL:https://www.asia-shooting.org/event/asian-shotgun-championship-2028-8-quota-place-for-la-olympic-2028/
LOCATION:Kuwait City\, KUW
END:VEVENT
END:VCALENDAR