BEGIN:VCALENDAR
VERSION:2.0
PRODID:-//Asian Shooting Confederation - ECPv6.15.20//NONSGML v1.0//EN
CALSCALE:GREGORIAN
METHOD:PUBLISH
X-ORIGINAL-URL:https://www.asia-shooting.org
X-WR-CALDESC:Events for Asian Shooting Confederation
REFRESH-INTERVAL;VALUE=DURATION:PT1H
X-Robots-Tag:noindex
X-PUBLISHED-TTL:PT1H
BEGIN:VTIMEZONE
TZID:UTC
BEGIN:STANDARD
TZOFFSETFROM:+0000
TZOFFSETTO:+0000
TZNAME:UTC
DTSTART:20270101T000000
END:STANDARD
END:VTIMEZONE
BEGIN:VEVENT
DTSTART;TZID=UTC:20280301T080000
DTEND;TZID=UTC:20280310T170000
DTSTAMP:20260421T192357
CREATED:20251119T151713Z
LAST-MODIFIED:20251119T151714Z
UID:25498-1835510400-1836320400@www.asia-shooting.org
SUMMARY:ISSF World Cup Shotgun
DESCRIPTION:
URL:https://www.asia-shooting.org/event/issf-world-cup-shotgun-36/
LOCATION:Lima\, PER
END:VEVENT
END:VCALENDAR