BEGIN:VCALENDAR
VERSION:2.0
PRODID:-//Asian Shooting Confederation - ECPv6.15.20//NONSGML v1.0//EN
CALSCALE:GREGORIAN
METHOD:PUBLISH
X-ORIGINAL-URL:https://www.asia-shooting.org
X-WR-CALDESC:Events for Asian Shooting Confederation
REFRESH-INTERVAL;VALUE=DURATION:PT1H
X-Robots-Tag:noindex
X-PUBLISHED-TTL:PT1H
BEGIN:VTIMEZONE
TZID:UTC
BEGIN:STANDARD
TZOFFSETFROM:+0000
TZOFFSETTO:+0000
TZNAME:UTC
DTSTART:20270101T000000
END:STANDARD
END:VTIMEZONE
BEGIN:VEVENT
DTSTART;TZID=UTC:20280105T080000
DTEND;TZID=UTC:20280118T170000
DTSTAMP:20260421T174019
CREATED:20260223T075942Z
LAST-MODIFIED:20260315T183851Z
UID:27087-1830672000-1831827600@www.asia-shooting.org
SUMMARY:17th Asian Shooting Championship All Events (20 Quota Places for LA Olympics 2028)
DESCRIPTION:
URL:https://www.asia-shooting.org/event/17th-asian-shooting-championship-all-events-20-quota-place-for-la-olympic-2028/
LOCATION:Doha\, QAT
END:VEVENT
END:VCALENDAR