BEGIN:VCALENDAR
VERSION:2.0
PRODID:-//Asian Shooting Confederation - ECPv6.15.20//NONSGML v1.0//EN
CALSCALE:GREGORIAN
METHOD:PUBLISH
X-ORIGINAL-URL:https://www.asia-shooting.org
X-WR-CALDESC:Events for Asian Shooting Confederation
REFRESH-INTERVAL;VALUE=DURATION:PT1H
X-Robots-Tag:noindex
X-PUBLISHED-TTL:PT1H
BEGIN:VTIMEZONE
TZID:UTC
BEGIN:STANDARD
TZOFFSETFROM:+0000
TZOFFSETTO:+0000
TZNAME:UTC
DTSTART:20260101T000000
END:STANDARD
END:VTIMEZONE
BEGIN:VEVENT
DTSTART;TZID=UTC:20271119T080000
DTEND;TZID=UTC:20271129T170000
DTSTAMP:20260421T141128
CREATED:20251119T082535Z
LAST-MODIFIED:20251119T082536Z
UID:25490-1826611200-1827507600@www.asia-shooting.org
SUMMARY:ISSF Junior World Championship Rifle / Pistol
DESCRIPTION:
URL:https://www.asia-shooting.org/event/issf-junior-world-championship-rifle-pistol/
LOCATION:Sichuan\, CHN
END:VEVENT
END:VCALENDAR