BEGIN:VCALENDAR
VERSION:2.0
PRODID:-//Asian Shooting Confederation - ECPv6.15.20//NONSGML v1.0//EN
CALSCALE:GREGORIAN
METHOD:PUBLISH
X-WR-CALNAME:Asian Shooting Confederation
X-ORIGINAL-URL:https://www.asia-shooting.org
X-WR-CALDESC:Events for Asian Shooting Confederation
REFRESH-INTERVAL;VALUE=DURATION:PT1H
X-Robots-Tag:noindex
X-PUBLISHED-TTL:PT1H
BEGIN:VTIMEZONE
TZID:UTC
BEGIN:STANDARD
TZOFFSETFROM:+0000
TZOFFSETTO:+0000
TZNAME:UTC
DTSTART:20260101T000000
END:STANDARD
END:VTIMEZONE
BEGIN:VEVENT
DTSTART;TZID=UTC:20270522T080000
DTEND;TZID=UTC:20270529T170000
DTSTAMP:20260420T035305
CREATED:20251119T081740Z
LAST-MODIFIED:20251119T081740Z
UID:25474-1810972800-1811610000@www.asia-shooting.org
SUMMARY:ISSF World Cup Rifle / Pistol
DESCRIPTION:
URL:https://www.asia-shooting.org/event/issf-world-cup-rifle-pistol-28/
LOCATION:Munich\, GER
END:VEVENT
END:VCALENDAR