BEGIN:VCALENDAR
VERSION:2.0
PRODID:-//Asian Shooting Confederation - ECPv6.15.20//NONSGML v1.0//EN
CALSCALE:GREGORIAN
METHOD:PUBLISH
X-WR-CALNAME:Asian Shooting Confederation
X-ORIGINAL-URL:https://www.asia-shooting.org
X-WR-CALDESC:Events for Asian Shooting Confederation
REFRESH-INTERVAL;VALUE=DURATION:PT1H
X-Robots-Tag:noindex
X-PUBLISHED-TTL:PT1H
BEGIN:VTIMEZONE
TZID:UTC
BEGIN:STANDARD
TZOFFSETFROM:+0000
TZOFFSETTO:+0000
TZNAME:UTC
DTSTART:20260101T000000
END:STANDARD
END:VTIMEZONE
BEGIN:VEVENT
DTSTART;TZID=UTC:20270421T080000
DTEND;TZID=UTC:20270430T170000
DTSTAMP:20260420T002924
CREATED:20251119T081555Z
LAST-MODIFIED:20251119T081556Z
UID:25470-1808294400-1809104400@www.asia-shooting.org
SUMMARY:ISSF World Cup Rifle / Pistol / Shotgun
DESCRIPTION:
URL:https://www.asia-shooting.org/event/issf-world-cup-rifle-pistol-shotgun-12/
LOCATION:New Delhi\, IND
END:VEVENT
BEGIN:VEVENT
DTSTART;TZID=UTC:20270421T080000
DTEND;TZID=UTC:20270430T170000
DTSTAMP:20260420T002924
CREATED:20260324T154738Z
LAST-MODIFIED:20260324T154739Z
UID:27262-1808294400-1809104400@www.asia-shooting.org
SUMMARY:ISSF World Cup Rifle / Pistol / Shotgun
DESCRIPTION:
URL:https://www.asia-shooting.org/event/issf-world-cup-rifle-pistol-shotgun-14/
LOCATION:New Delhi\, IND
END:VEVENT
END:VCALENDAR