BEGIN:VCALENDAR
VERSION:2.0
PRODID:-//Asian Shooting Confederation - ECPv6.15.20//NONSGML v1.0//EN
CALSCALE:GREGORIAN
METHOD:PUBLISH
X-ORIGINAL-URL:https://www.asia-shooting.org
X-WR-CALDESC:Events for Asian Shooting Confederation
REFRESH-INTERVAL;VALUE=DURATION:PT1H
X-Robots-Tag:noindex
X-PUBLISHED-TTL:PT1H
BEGIN:VTIMEZONE
TZID:UTC
BEGIN:STANDARD
TZOFFSETFROM:+0000
TZOFFSETTO:+0000
TZNAME:UTC
DTSTART:20260101T000000
END:STANDARD
END:VTIMEZONE
BEGIN:VEVENT
DTSTART;TZID=UTC:20270311T080000
DTEND;TZID=UTC:20270320T170000
DTSTAMP:20260419T224537
CREATED:20251119T081325Z
LAST-MODIFIED:20251119T081326Z
UID:25464-1804752000-1805562000@www.asia-shooting.org
SUMMARY:ISSF World Cup Shotgun
DESCRIPTION:
URL:https://www.asia-shooting.org/event/issf-world-cup-shotgun-33/
LOCATION:Acapulco\, MEX
END:VEVENT
END:VCALENDAR