BEGIN:VCALENDAR
VERSION:2.0
PRODID:-//Asian Shooting Confederation - ECPv6.15.20//NONSGML v1.0//EN
CALSCALE:GREGORIAN
METHOD:PUBLISH
X-WR-CALNAME:Asian Shooting Confederation
X-ORIGINAL-URL:https://www.asia-shooting.org
X-WR-CALDESC:Events for Asian Shooting Confederation
REFRESH-INTERVAL;VALUE=DURATION:PT1H
X-Robots-Tag:noindex
X-PUBLISHED-TTL:PT1H
BEGIN:VTIMEZONE
TZID:UTC
BEGIN:STANDARD
TZOFFSETFROM:+0000
TZOFFSETTO:+0000
TZNAME:UTC
DTSTART:20240101T000000
END:STANDARD
END:VTIMEZONE
BEGIN:VEVENT
DTSTART;TZID=UTC:20250616T080000
DTEND;TZID=UTC:20250629T170000
DTSTAMP:20260419T132309
CREATED:20241001T173143Z
LAST-MODIFIED:20241026T171002Z
UID:21171-1750060800-1751216400@www.asia-shooting.org
SUMMARY:Emir Cup Shotgun
DESCRIPTION:
URL:https://www.asia-shooting.org/event/emir-cup-shotgun/
LOCATION:Todi\, ITA
END:VEVENT
BEGIN:VEVENT
DTSTART;TZID=UTC:20250620T080000
DTEND;TZID=UTC:20250629T170000
DTSTAMP:20260419T132309
CREATED:20250406T062355Z
LAST-MODIFIED:20250406T062356Z
UID:22772-1750406400-1751216400@www.asia-shooting.org
SUMMARY:4th Thailand Shooting Championship & Master Games Rifle/Pistol
DESCRIPTION:
URL:https://www.asia-shooting.org/event/4th-thailand-shooting-championship-master-games-rifle-pistol/
LOCATION:Bangkok\, THA
END:VEVENT
END:VCALENDAR