BEGIN:VCALENDAR
VERSION:2.0
PRODID:-//Asian Shooting Confederation - ECPv6.15.20//NONSGML v1.0//EN
CALSCALE:GREGORIAN
METHOD:PUBLISH
X-WR-CALNAME:Asian Shooting Confederation
X-ORIGINAL-URL:https://www.asia-shooting.org
X-WR-CALDESC:Events for Asian Shooting Confederation
REFRESH-INTERVAL;VALUE=DURATION:PT1H
X-Robots-Tag:noindex
X-PUBLISHED-TTL:PT1H
BEGIN:VTIMEZONE
TZID:UTC
BEGIN:STANDARD
TZOFFSETFROM:+0000
TZOFFSETTO:+0000
TZNAME:UTC
DTSTART:20240101T000000
END:STANDARD
END:VTIMEZONE
BEGIN:VEVENT
DTSTART;TZID=UTC:20250608T080000
DTEND;TZID=UTC:20250615T170000
DTSTAMP:20260419T172350
CREATED:20240224T160707Z
LAST-MODIFIED:20250417T133836Z
UID:18412-1749369600-1750006800@www.asia-shooting.org
SUMMARY:ISSF World Cup Rifle / Pistol
DESCRIPTION:
URL:https://www.asia-shooting.org/event/issf-world-cup-tbd-rifle-pistol/
LOCATION:Munich\, GER
END:VEVENT
BEGIN:VEVENT
DTSTART;TZID=UTC:20250611T080000
DTEND;TZID=UTC:20250615T170000
DTSTAMP:20260419T172350
CREATED:20250428T175810Z
LAST-MODIFIED:20250428T175811Z
UID:22980-1749628800-1750006800@www.asia-shooting.org
SUMMARY:ISSF Rifle/Pistol Judges Course
DESCRIPTION:
URL:https://www.asia-shooting.org/event/issf-rifle-pistol-judges-course-8/
LOCATION:Singapore\, SGP
END:VEVENT
END:VCALENDAR